{
 "currentVersion": 10.9,
 "serviceDescription": "483a180c-496b-4369-b6fd-38e0ee98e15f",
 "name": "483a180c-496b-4369-b6fd-38e0ee98e15f",
 "description": "",
 "extent": {
  "xmin": -1.0937602888753152E7,
  "ymin": 2154653.5562471724,
  "xmax": -1.0937281875628112E7,
  "ymax": 2155453.4578046463,
  "spatialReference": {
   "wkid": 102100,
   "latestWkid": 3857
  }
 },
 "initialExtent": {
  "xmin": -1.0937602888753152E7,
  "ymin": 2154653.5562471724,
  "xmax": -1.0937281875628112E7,
  "ymax": 2155453.4578046463,
  "spatialReference": {
   "wkid": 102100,
   "latestWkid": 3857
  }
 },
 "fullExtent": {
  "xmin": -1.0937602888753152E7,
  "ymin": 2154653.5562471724,
  "xmax": -1.0937281875628112E7,
  "ymax": 2155453.4578046463,
  "spatialReference": {
   "wkid": 102100,
   "latestWkid": 3857
  }
 },
 "spatialReference": {
  "wkid": 102100,
  "latestWkid": 3857
 },
 "singleFusedMapCache": true,
 "tileInfo": {
  "rows": 256,
  "cols": 256,
  "dpi": 96,
  "format": "LERC",
  "compressionQuality": 0,
  "lercError": 0.1,
  "origin": {
   "x": -2.0037508342787E7,
   "y": 2.0037508342787E7
  },
  "spatialReference": {
   "wkid": 102100,
   "latestWkid": 3857
  },
  "lods": [
   {
    "level": 0,
    "resolution": 156543.033928,
    "scale": 5.91657527591555E8
   },
   {
    "level": 1,
    "resolution": 78271.5169639999,
    "scale": 2.95828763795777E8
   },
   {
    "level": 2,
    "resolution": 39135.7584820001,
    "scale": 1.47914381897889E8
   },
   {
    "level": 3,
    "resolution": 19567.8792409999,
    "scale": 7.3957190948944E7
   },
   {
    "level": 4,
    "resolution": 9783.93962049996,
    "scale": 3.6978595474472E7
   },
   {
    "level": 5,
    "resolution": 4891.96981024998,
    "scale": 1.8489297737236E7
   },
   {
    "level": 6,
    "resolution": 2445.98490512499,
    "scale": 9244648.868618
   },
   {
    "level": 7,
    "resolution": 1222.99245256249,
    "scale": 4622324.434309
   },
   {
    "level": 8,
    "resolution": 611.49622628138,
    "scale": 2311162.217155
   },
   {
    "level": 9,
    "resolution": 305.748113140558,
    "scale": 1155581.108577
   },
   {
    "level": 10,
    "resolution": 152.874056570411,
    "scale": 577790.554289
   },
   {
    "level": 11,
    "resolution": 76.4370282850732,
    "scale": 288895.277144
   },
   {
    "level": 12,
    "resolution": 38.2185141425366,
    "scale": 144447.638572
   },
   {
    "level": 13,
    "resolution": 19.1092570712683,
    "scale": 72223.819286
   },
   {
    "level": 14,
    "resolution": 9.55462853563415,
    "scale": 36111.909643
   },
   {
    "level": 15,
    "resolution": 4.77731426794937,
    "scale": 18055.954822
   },
   {
    "level": 16,
    "resolution": 2.38865713397468,
    "scale": 9027.977411
   },
   {
    "level": 17,
    "resolution": 1.19432856685505,
    "scale": 4513.988705
   },
   {
    "level": 18,
    "resolution": 0.597164283559817,
    "scale": 2256.994353
   },
   {
    "level": 19,
    "resolution": 0.298582141647617,
    "scale": 1128.497176
   },
   {
    "level": 20,
    "resolution": 0.14929107082380833,
    "scale": 564.248588
   },
   {
    "level": 21,
    "resolution": 0.07464553541190416,
    "scale": 282.124294
   },
   {
    "level": 22,
    "resolution": 0.03732276770595208,
    "scale": 141.062147
   },
   {
    "level": 23,
    "resolution": 0.01866138385297604,
    "scale": 70.5310735
   }
  ],
  "storageFormat": "esriMapCacheStorageModeCompact"
 },
 "cacheType": "Elevation",
 "exportTilesAllowed": false,
 "minScale": 5.91657527591555E8,
 "maxScale": 70.5310735,
 "capabilities": "Image,TilesOnly,Tilemap",
 "minLOD": 0,
 "maxLOD": 23,
 "datasetFormat": "Cache/LERC",
 "compressionType": "LERC",
 "serviceDataType": "esriImageServiceDataTypeElevation",
 "blockWidth": 256,
 "blockHeight": 256,
 "bandCount": 1,
 "pixelSizeX": 0.01866138385297604,
 "pixelSizeY": 0.01866138385297604,
 "minPixelSize": 0.01866138385297604,
 "maxPixelSize": 156543.033928
}
